BEGIN:VCALENDAR
VERSION:2.0
PRODID:-//Bonny Kalsbeek - ECPv6.15.20//NONSGML v1.0//EN
CALSCALE:GREGORIAN
METHOD:PUBLISH
X-WR-CALNAME:Bonny Kalsbeek
X-ORIGINAL-URL:https://bonnykalsbeek.nl
X-WR-CALDESC:Evenementen voor Bonny Kalsbeek
REFRESH-INTERVAL;VALUE=DURATION:PT1H
X-Robots-Tag:noindex
X-PUBLISHED-TTL:PT1H
BEGIN:VTIMEZONE
TZID:Europe/Paris
BEGIN:DAYLIGHT
TZOFFSETFROM:+0100
TZOFFSETTO:+0200
TZNAME:CEST
DTSTART:20250330T010000
END:DAYLIGHT
BEGIN:STANDARD
TZOFFSETFROM:+0200
TZOFFSETTO:+0100
TZNAME:CET
DTSTART:20251026T010000
END:STANDARD
BEGIN:DAYLIGHT
TZOFFSETFROM:+0100
TZOFFSETTO:+0200
TZNAME:CEST
DTSTART:20260329T010000
END:DAYLIGHT
BEGIN:STANDARD
TZOFFSETFROM:+0200
TZOFFSETTO:+0100
TZNAME:CET
DTSTART:20261025T010000
END:STANDARD
BEGIN:DAYLIGHT
TZOFFSETFROM:+0100
TZOFFSETTO:+0200
TZNAME:CEST
DTSTART:20270328T010000
END:DAYLIGHT
BEGIN:STANDARD
TZOFFSETFROM:+0200
TZOFFSETTO:+0100
TZNAME:CET
DTSTART:20271031T010000
END:STANDARD
END:VTIMEZONE
BEGIN:VEVENT
DTSTART;TZID=Europe/Paris:20260704T130000
DTEND;TZID=Europe/Paris:20260704T170000
DTSTAMP:20260421T173351
CREATED:20260416T081546Z
LAST-MODIFIED:20260416T081751Z
UID:1454-1783170000-1783184400@bonnykalsbeek.nl
SUMMARY:4 juli 2026 Apollanja Leeuwarden - gratis korte tarotreading
DESCRIPTION:Op zaterdag 4 juli 2026 as ben ik bij Apollanja in Leeuwarden aanwezig om mijn kaarten te laten dansen voor een korte tarotreading. \nNieuwstad 88\, 8911 CW Leeuwarden \nTijd: 13.00 uur tot 17.00 uur \nIk zie je graag\, liefs Bonny
URL:https://bonnykalsbeek.nl/index.php/agenda/4-juli-2026-apollanja-leeuwarden-gratis-korte-tarotreading/
END:VEVENT
END:VCALENDAR