BEGIN:VCALENDAR
VERSION:2.0
PRODID:-//Bonny Kalsbeek - ECPv6.15.20//NONSGML v1.0//EN
CALSCALE:GREGORIAN
METHOD:PUBLISH
X-ORIGINAL-URL:https://bonnykalsbeek.nl
X-WR-CALDESC:Evenementen voor Bonny Kalsbeek
REFRESH-INTERVAL;VALUE=DURATION:PT1H
X-Robots-Tag:noindex
X-PUBLISHED-TTL:PT1H
BEGIN:VTIMEZONE
TZID:Europe/Paris
BEGIN:DAYLIGHT
TZOFFSETFROM:+0100
TZOFFSETTO:+0200
TZNAME:CEST
DTSTART:20250330T010000
END:DAYLIGHT
BEGIN:STANDARD
TZOFFSETFROM:+0200
TZOFFSETTO:+0100
TZNAME:CET
DTSTART:20251026T010000
END:STANDARD
BEGIN:DAYLIGHT
TZOFFSETFROM:+0100
TZOFFSETTO:+0200
TZNAME:CEST
DTSTART:20260329T010000
END:DAYLIGHT
BEGIN:STANDARD
TZOFFSETFROM:+0200
TZOFFSETTO:+0100
TZNAME:CET
DTSTART:20261025T010000
END:STANDARD
BEGIN:DAYLIGHT
TZOFFSETFROM:+0100
TZOFFSETTO:+0200
TZNAME:CEST
DTSTART:20270328T010000
END:DAYLIGHT
BEGIN:STANDARD
TZOFFSETFROM:+0200
TZOFFSETTO:+0100
TZNAME:CET
DTSTART:20271031T010000
END:STANDARD
END:VTIMEZONE
BEGIN:VEVENT
DTSTART;TZID=Europe/Paris:20260328T130000
DTEND;TZID=Europe/Paris:20260328T170000
DTSTAMP:20260421T123102
CREATED:20260115T154550Z
LAST-MODIFIED:20260115T154550Z
UID:1375-1774702800-1774717200@bonnykalsbeek.nl
SUMMARY:28 maart 2026 - Apollanja Leeuwarden - gratis korte tarotreading
DESCRIPTION:Op zaterdag 28 maart 2026 as ben ik bij Apollanja in Leeuwarden aanwezig om mijn kaarten te laten dansen voor een korte tarotreading. \nNieuwstad 88\, 8911 CW Leeuwarden \nTijd: 13.00 uur tot 17.00 uur \nIk zie je graag\, liefs Bonny
URL:https://bonnykalsbeek.nl/index.php/agenda/28-maart-2026-apollanja-leeuwarden-gratis-korte-tarotreading/
END:VEVENT
END:VCALENDAR