BEGIN:VCALENDAR
VERSION:2.0
PRODID:-//Bonny Kalsbeek - ECPv6.15.20//NONSGML v1.0//EN
CALSCALE:GREGORIAN
METHOD:PUBLISH
X-WR-CALNAME:Bonny Kalsbeek
X-ORIGINAL-URL:https://bonnykalsbeek.nl
X-WR-CALDESC:Evenementen voor Bonny Kalsbeek
REFRESH-INTERVAL;VALUE=DURATION:PT1H
X-Robots-Tag:noindex
X-PUBLISHED-TTL:PT1H
BEGIN:VTIMEZONE
TZID:Europe/Paris
BEGIN:DAYLIGHT
TZOFFSETFROM:+0100
TZOFFSETTO:+0200
TZNAME:CEST
DTSTART:20250330T010000
END:DAYLIGHT
BEGIN:STANDARD
TZOFFSETFROM:+0200
TZOFFSETTO:+0100
TZNAME:CET
DTSTART:20251026T010000
END:STANDARD
BEGIN:DAYLIGHT
TZOFFSETFROM:+0100
TZOFFSETTO:+0200
TZNAME:CEST
DTSTART:20260329T010000
END:DAYLIGHT
BEGIN:STANDARD
TZOFFSETFROM:+0200
TZOFFSETTO:+0100
TZNAME:CET
DTSTART:20261025T010000
END:STANDARD
BEGIN:DAYLIGHT
TZOFFSETFROM:+0100
TZOFFSETTO:+0200
TZNAME:CEST
DTSTART:20270328T010000
END:DAYLIGHT
BEGIN:STANDARD
TZOFFSETFROM:+0200
TZOFFSETTO:+0100
TZNAME:CET
DTSTART:20271031T010000
END:STANDARD
END:VTIMEZONE
BEGIN:VEVENT
DTSTART;TZID=Europe/Paris:20260111T130000
DTEND;TZID=Europe/Paris:20260111T170000
DTSTAMP:20260421T154349
CREATED:20250827T110103Z
LAST-MODIFIED:20260112T135627Z
UID:1264-1768136400-1768150800@bonnykalsbeek.nl
SUMMARY:Tarottraining 'Word wijzer met de tarot' - 2026 - VOL geen aanmelding meer mogelijk!
DESCRIPTION:Training ‘Word wijzer met de tarot’.\nOp zondagmiddag wordt deze leuke tarottraining gegeven in Leeuwarden. DEZE TRAINING IS VOL! \nDe data zijn:  zondag 11 en 25 januari\, zondag 8 en 22 februari en zondag 8 maart 2026 \nTijd: 13.00 tot 16.30 uur.  \nJouw investering is € 495\,=\, dit is inclusief de tarotkaarten van Rider Waite. \nWat kun je verwachten:\nNaast wat tarot nu eigenlijk is\, gaan we dieper in op de inhoud van de kaarten. We kijken onder andere naar de afbeeldingen\, de elementen\, getallen\, de Azen\, Hofkaarten\, symbolen en kleuren. \nDaarnaast ga je zelf aan de slag met verschillende leggingen. \nHeb je altijd al meer willen weten over de tarot? Of wil je er graag mee leren werken en ontdekken wat er mogelijk is? Dan is deze tarot training een uitgelezen kans om je te verdiepen in de ‘geheimen’ van de tarot. \nHeb je interesse? Laat het me weten\, ook voor vragen mag je me appen of bellen\,\n06 12 96 60 36. \nAanmelden is noodzakelijk\, er zijn beperkt aantal plaatsen beschikbaar.
URL:https://bonnykalsbeek.nl/index.php/agenda/tarottraining-word-wijzer-met-de-tarot-2026/
END:VEVENT
BEGIN:VEVENT
DTSTART;TZID=Europe/Paris:20260131T130000
DTEND;TZID=Europe/Paris:20260131T170000
DTSTAMP:20260421T154349
CREATED:20260115T153905Z
LAST-MODIFIED:20260115T153905Z
UID:1370-1769864400-1769878800@bonnykalsbeek.nl
SUMMARY:31 januari 2026 - Apollanja Leeuwarden - gratis korte tarotreading
DESCRIPTION:Op zaterdag 31 januari 2026 as ben ik bij Apollanja in Leeuwarden aanwezig om mijn kaarten te laten dansen voor een korte tarotreading. \nNieuwstad 88\, 8911 CW Leeuwarden \nTijd: 13.00 uur tot 17.00 uur \nIk zie je graag\, liefs Bonny
URL:https://bonnykalsbeek.nl/index.php/agenda/31-januari-2026-apollanja-leeuwarden-gratis-korte-tarotreading/
END:VEVENT
END:VCALENDAR