BEGIN:VCALENDAR
VERSION:2.0
PRODID:-//Bonny Kalsbeek - ECPv6.15.20//NONSGML v1.0//EN
CALSCALE:GREGORIAN
METHOD:PUBLISH
X-ORIGINAL-URL:https://bonnykalsbeek.nl
X-WR-CALDESC:Evenementen voor Bonny Kalsbeek
REFRESH-INTERVAL;VALUE=DURATION:PT1H
X-Robots-Tag:noindex
X-PUBLISHED-TTL:PT1H
BEGIN:VTIMEZONE
TZID:Europe/Paris
BEGIN:DAYLIGHT
TZOFFSETFROM:+0100
TZOFFSETTO:+0200
TZNAME:CEST
DTSTART:20240331T010000
END:DAYLIGHT
BEGIN:STANDARD
TZOFFSETFROM:+0200
TZOFFSETTO:+0100
TZNAME:CET
DTSTART:20241027T010000
END:STANDARD
BEGIN:DAYLIGHT
TZOFFSETFROM:+0100
TZOFFSETTO:+0200
TZNAME:CEST
DTSTART:20250330T010000
END:DAYLIGHT
BEGIN:STANDARD
TZOFFSETFROM:+0200
TZOFFSETTO:+0100
TZNAME:CET
DTSTART:20251026T010000
END:STANDARD
BEGIN:DAYLIGHT
TZOFFSETFROM:+0100
TZOFFSETTO:+0200
TZNAME:CEST
DTSTART:20260329T010000
END:DAYLIGHT
BEGIN:STANDARD
TZOFFSETFROM:+0200
TZOFFSETTO:+0100
TZNAME:CET
DTSTART:20261025T010000
END:STANDARD
END:VTIMEZONE
BEGIN:VEVENT
DTSTART;TZID=Europe/Paris:20251101T130000
DTEND;TZID=Europe/Paris:20251101T170000
DTSTAMP:20260421T192500
CREATED:20250922T123625Z
LAST-MODIFIED:20250922T124919Z
UID:1282-1762002000-1762016400@bonnykalsbeek.nl
SUMMARY:1 november 2025 bij Apollanja Leeuwarden - gratis korte tarotreading
DESCRIPTION:Op zaterdag 1 november as ben ik bij Apollanja in Leeuwarden aanwezig om mijn kaarten te laten dansen voor een korte tarotreading. \nTijd: 13.00 uur tot 17.00 uur \nIk zie je graag\, liefs Bonny
URL:https://bonnykalsbeek.nl/index.php/agenda/1-november-2025-bij-apollanja-leeuwarden-gratis-korte-tarotreading/
END:VEVENT
BEGIN:VEVENT
DTSTART;TZID=Europe/Paris:20251102T110000
DTEND;TZID=Europe/Paris:20251102T170000
DTSTAMP:20260421T192500
CREATED:20250922T124553Z
LAST-MODIFIED:20250922T124627Z
UID:1289-1762081200-1762102800@bonnykalsbeek.nl
SUMMARY:Marchakri Beurs - Wolvega - 2 november 2025
DESCRIPTION:Op zondag 2 november as ben ik aanwezig op de spirituele beurs van Marchakri in Wolvega. \nGraag ontmoet ik je daar\, om samen met mijn tarotkaarten al je vragen te beantwoorden. \nIk zie je graag\, liefs Bonny \n 
URL:https://bonnykalsbeek.nl/index.php/agenda/marchakri-beurs-wolvega-2-november-2025/
END:VEVENT
BEGIN:VEVENT
DTSTART;TZID=Europe/Paris:20251129T130000
DTEND;TZID=Europe/Paris:20251129T170000
DTSTAMP:20260421T192500
CREATED:20250922T123801Z
LAST-MODIFIED:20250922T124835Z
UID:1284-1764421200-1764435600@bonnykalsbeek.nl
SUMMARY:29 november 2025 bij Apollanja Leeuwarden - gratis korte tarotreading
DESCRIPTION:Op zaterdag 29 november as ben ik bij Apollanja in Leeuwarden aanwezig om mijn kaarten te laten dansen voor een korte tarotreading. \nTijd: 13.00 uur tot 17.00 uur \nIk zie je graag\, liefs Bonny
URL:https://bonnykalsbeek.nl/index.php/agenda/29-november-2025-bij-apollanja-leeuwarden-gratis-korte-tarotreading/
END:VEVENT
END:VCALENDAR