BEGIN:VCALENDAR
VERSION:2.0
PRODID:-//Bonny Kalsbeek - ECPv6.15.20//NONSGML v1.0//EN
CALSCALE:GREGORIAN
METHOD:PUBLISH
X-WR-CALNAME:Bonny Kalsbeek
X-ORIGINAL-URL:https://bonnykalsbeek.nl
X-WR-CALDESC:Evenementen voor Bonny Kalsbeek
REFRESH-INTERVAL;VALUE=DURATION:PT1H
X-Robots-Tag:noindex
X-PUBLISHED-TTL:PT1H
BEGIN:VTIMEZONE
TZID:Europe/Paris
BEGIN:DAYLIGHT
TZOFFSETFROM:+0100
TZOFFSETTO:+0200
TZNAME:CEST
DTSTART:20230326T010000
END:DAYLIGHT
BEGIN:STANDARD
TZOFFSETFROM:+0200
TZOFFSETTO:+0100
TZNAME:CET
DTSTART:20231029T010000
END:STANDARD
BEGIN:DAYLIGHT
TZOFFSETFROM:+0100
TZOFFSETTO:+0200
TZNAME:CEST
DTSTART:20240331T010000
END:DAYLIGHT
BEGIN:STANDARD
TZOFFSETFROM:+0200
TZOFFSETTO:+0100
TZNAME:CET
DTSTART:20241027T010000
END:STANDARD
BEGIN:DAYLIGHT
TZOFFSETFROM:+0100
TZOFFSETTO:+0200
TZNAME:CEST
DTSTART:20250330T010000
END:DAYLIGHT
BEGIN:STANDARD
TZOFFSETFROM:+0200
TZOFFSETTO:+0100
TZNAME:CET
DTSTART:20251026T010000
END:STANDARD
END:VTIMEZONE
BEGIN:VEVENT
DTSTART;TZID=Europe/Paris:20240907T100000
DTEND;TZID=Europe/Paris:20240907T170000
DTSTAMP:20260422T211126
CREATED:20240812T093104Z
LAST-MODIFIED:20240812T093104Z
UID:1131-1725703200-1725728400@bonnykalsbeek.nl
SUMMARY:I am festival - Rotsterhaule
DESCRIPTION:I am festival. \nDit festival staat in het teken van verbinding. Met gezellige stands\, waaronder ik met mijn tarotkaarten. \nOp zaterdag 7 september 2024. \nLocatie: De Kiemschuur\, Rotsterhaule \nLeuk om je daar te ontmoeten.
URL:https://bonnykalsbeek.nl/index.php/agenda/i-am-festival-rotsterhaule/
END:VEVENT
END:VCALENDAR