BEGIN:VCALENDAR
VERSION:2.0
PRODID:-//Bonny Kalsbeek - ECPv6.15.20//NONSGML v1.0//EN
CALSCALE:GREGORIAN
METHOD:PUBLISH
X-ORIGINAL-URL:https://bonnykalsbeek.nl
X-WR-CALDESC:Evenementen voor Bonny Kalsbeek
REFRESH-INTERVAL;VALUE=DURATION:PT1H
X-Robots-Tag:noindex
X-PUBLISHED-TTL:PT1H
BEGIN:VTIMEZONE
TZID:Europe/Paris
BEGIN:DAYLIGHT
TZOFFSETFROM:+0100
TZOFFSETTO:+0200
TZNAME:CEST
DTSTART:20230326T010000
END:DAYLIGHT
BEGIN:STANDARD
TZOFFSETFROM:+0200
TZOFFSETTO:+0100
TZNAME:CET
DTSTART:20231029T010000
END:STANDARD
BEGIN:DAYLIGHT
TZOFFSETFROM:+0100
TZOFFSETTO:+0200
TZNAME:CEST
DTSTART:20240331T010000
END:DAYLIGHT
BEGIN:STANDARD
TZOFFSETFROM:+0200
TZOFFSETTO:+0100
TZNAME:CET
DTSTART:20241027T010000
END:STANDARD
BEGIN:DAYLIGHT
TZOFFSETFROM:+0100
TZOFFSETTO:+0200
TZNAME:CEST
DTSTART:20250330T010000
END:DAYLIGHT
BEGIN:STANDARD
TZOFFSETFROM:+0200
TZOFFSETTO:+0100
TZNAME:CET
DTSTART:20251026T010000
END:STANDARD
END:VTIMEZONE
BEGIN:VEVENT
DTSTART;TZID=Europe/Paris:20240118T190000
DTEND;TZID=Europe/Paris:20240118T213000
DTSTAMP:20260423T103223
CREATED:20240117T173554Z
LAST-MODIFIED:20240117T173554Z
UID:1081-1705604400-1705613400@bonnykalsbeek.nl
SUMMARY:Tarot avond met 16 magische vrouwen!
DESCRIPTION:Deze avond verbind ik mij met 16 magische\, bewuste vrouwen. \nWe gaan het over de TAROT hebben en over de wereld van NU. \nMijn wens is dat de kosmische energie mag stromen en dat ieder van ons GEZIEN mag worden. \n  \nWilt u ook een avond organiseren rondom een thema of de tarot\, dan hoor ik het graag\, liefs Bonny
URL:https://bonnykalsbeek.nl/index.php/agenda/tarot-avond-met-16-magische-vrouwen/
LOCATION:Heerenveen
END:VEVENT
BEGIN:VEVENT
DTSTART;TZID=Europe/Paris:20240128T130000
DTEND;TZID=Europe/Paris:20240128T163000
DTSTAMP:20260423T103223
CREATED:20231010T163735Z
LAST-MODIFIED:20231026T173449Z
UID:1012-1706446800-1706459400@bonnykalsbeek.nl
SUMMARY:Tarot training 'Word wijzer met de tarot' - start 28 januari 2024  VOL!!!
DESCRIPTION:Training ‘Word wijzer met de Tarot’. \nDe data zijn: zondag 28 januari\, zondag 11 februari\, zondag 25 februari 2024. Tijd: 13.00 tot 16.30 uur. \nJouw investering is € 277\,=\, dit is inclusief de tarotkaarten van Rider Waite. \nWat kun je verwachten: \nNaast wat tarot nu eigenlijk is\, gaan we dieper in op de inhoud van de kaarten. We kijken onder andere naar de afbeeldingen\, de elementen\, getallen\, de Azen\, Hofkaarten\, symbolen en kleuren. \nDaarnaast ga je zelf aan de slag met verschillende leggingen. \nHeb je altijd al meer willen weten over de tarot? Of wil je er graag mee leren werken en ontdekken wat er mogelijk is? Dan is deze tarot training een uitgelezen kans om je te verdiepen in de ‘geheimen’ van de tarot. \nDeze training vindt plaats in Leeuwarden. \nHeb je interesse? Laat het me weten\, ook voor vragen mag je mij appen of bellen\, 06 12 96 60 36. \nAanmelden is noodzakelijk\, beperkt aantal plaatsen beschikbaar. \nLiefs Bonny \n  \nDeze reactie mocht ik naar aanleiding van de gegeven training ontvangen: \nBij Bonny een Tarot cursus gevolgd.\nTarot kaarten vond ik altijd al fascinerend.\nEr is mij een hoop duidelijk geworden.\nBonny legt alles goed uit\, staat open voor vragen\, geeft de cursus vol enthousiasme en liefde.\nIn de cursus die uit 3 middagen bestond hebben we ook veel geoefend met leggingen en ook daarin veel van elkaar geleerd. \nBonny\, dank voor deze mooie liefdevolle ervaring. \n 
URL:https://bonnykalsbeek.nl/index.php/agenda/tarot-training-word-wijzer-met-de-tarot-start-28-januari-2024/
END:VEVENT
END:VCALENDAR