BEGIN:VCALENDAR
VERSION:2.0
PRODID:-//Bonny Kalsbeek - ECPv6.15.20//NONSGML v1.0//EN
CALSCALE:GREGORIAN
METHOD:PUBLISH
X-WR-CALNAME:Bonny Kalsbeek
X-ORIGINAL-URL:https://bonnykalsbeek.nl
X-WR-CALDESC:Evenementen voor Bonny Kalsbeek
REFRESH-INTERVAL;VALUE=DURATION:PT1H
X-Robots-Tag:noindex
X-PUBLISHED-TTL:PT1H
BEGIN:VTIMEZONE
TZID:Europe/Paris
BEGIN:DAYLIGHT
TZOFFSETFROM:+0100
TZOFFSETTO:+0200
TZNAME:CEST
DTSTART:20220327T010000
END:DAYLIGHT
BEGIN:STANDARD
TZOFFSETFROM:+0200
TZOFFSETTO:+0100
TZNAME:CET
DTSTART:20221030T010000
END:STANDARD
BEGIN:DAYLIGHT
TZOFFSETFROM:+0100
TZOFFSETTO:+0200
TZNAME:CEST
DTSTART:20230326T010000
END:DAYLIGHT
BEGIN:STANDARD
TZOFFSETFROM:+0200
TZOFFSETTO:+0100
TZNAME:CET
DTSTART:20231029T010000
END:STANDARD
BEGIN:DAYLIGHT
TZOFFSETFROM:+0100
TZOFFSETTO:+0200
TZNAME:CEST
DTSTART:20240331T010000
END:DAYLIGHT
BEGIN:STANDARD
TZOFFSETFROM:+0200
TZOFFSETTO:+0100
TZNAME:CET
DTSTART:20241027T010000
END:STANDARD
END:VTIMEZONE
BEGIN:VEVENT
DTSTART;TZID=Europe/Paris:20230714T150000
DTEND;TZID=Europe/Paris:20230716T150000
DTSTAMP:20260423T195812
CREATED:20230607T112110Z
LAST-MODIFIED:20230607T112110Z
UID:986-1689346800-1689519600@bonnykalsbeek.nl
SUMMARY:Vrije Vrouwen Festival 14/15/16 juli 2023
DESCRIPTION:Dit is een besloten groep. Heb je interesse en/of wil je informatie dan graag contact opnemen.
URL:https://bonnykalsbeek.nl/index.php/agenda/vrije-vrouwen-festival-14-15-16-juli-2023/
END:VEVENT
END:VCALENDAR