BEGIN:VCALENDAR
VERSION:2.0
PRODID:-//Bonny Kalsbeek - ECPv6.15.20//NONSGML v1.0//EN
CALSCALE:GREGORIAN
METHOD:PUBLISH
X-ORIGINAL-URL:https://bonnykalsbeek.nl
X-WR-CALDESC:Evenementen voor Bonny Kalsbeek
REFRESH-INTERVAL;VALUE=DURATION:PT1H
X-Robots-Tag:noindex
X-PUBLISHED-TTL:PT1H
BEGIN:VTIMEZONE
TZID:Europe/Paris
BEGIN:DAYLIGHT
TZOFFSETFROM:+0100
TZOFFSETTO:+0200
TZNAME:CEST
DTSTART:20220327T010000
END:DAYLIGHT
BEGIN:STANDARD
TZOFFSETFROM:+0200
TZOFFSETTO:+0100
TZNAME:CET
DTSTART:20221030T010000
END:STANDARD
BEGIN:DAYLIGHT
TZOFFSETFROM:+0100
TZOFFSETTO:+0200
TZNAME:CEST
DTSTART:20230326T010000
END:DAYLIGHT
BEGIN:STANDARD
TZOFFSETFROM:+0200
TZOFFSETTO:+0100
TZNAME:CET
DTSTART:20231029T010000
END:STANDARD
BEGIN:DAYLIGHT
TZOFFSETFROM:+0100
TZOFFSETTO:+0200
TZNAME:CEST
DTSTART:20240331T010000
END:DAYLIGHT
BEGIN:STANDARD
TZOFFSETFROM:+0200
TZOFFSETTO:+0100
TZNAME:CET
DTSTART:20241027T010000
END:STANDARD
END:VTIMEZONE
BEGIN:VEVENT
DTSTART;TZID=Europe/Paris:20230319T130000
DTEND;TZID=Europe/Paris:20230319T163000
DTSTAMP:20260424T042828
CREATED:20230307T121440Z
LAST-MODIFIED:20230307T121440Z
UID:965-1679230800-1679243400@bonnykalsbeek.nl
SUMMARY:Vervolg training 'Word wijzer met de tarot'
DESCRIPTION:Op zondag 19 maart as is de derde bijeenkomst van de training ‘Word wijzer met de tarot’. \nVoor deze middag kunt u zich niet meer aanmelden. In april op de zondagmiddagen 2\, 16 en 23 april is er de mogelijkheid om weer mee te doen aan een nieuwe drieluik. \nKijk voor informatie betreffende de training ‘Word wijzer met de tarot’ op de agenda bij 2 april 2023. Misschien tot dán! \n  \n  \n 
URL:https://bonnykalsbeek.nl/index.php/agenda/vervolg-training-word-wijzer-met-de-tarot/
END:VEVENT
END:VCALENDAR