BEGIN:VCALENDAR
VERSION:2.0
PRODID:-//Bonny Kalsbeek - ECPv6.15.20//NONSGML v1.0//EN
CALSCALE:GREGORIAN
METHOD:PUBLISH
X-WR-CALNAME:Bonny Kalsbeek
X-ORIGINAL-URL:https://bonnykalsbeek.nl
X-WR-CALDESC:Evenementen voor Bonny Kalsbeek
REFRESH-INTERVAL;VALUE=DURATION:PT1H
X-Robots-Tag:noindex
X-PUBLISHED-TTL:PT1H
BEGIN:VTIMEZONE
TZID:Europe/Paris
BEGIN:DAYLIGHT
TZOFFSETFROM:+0100
TZOFFSETTO:+0200
TZNAME:CEST
DTSTART:20250330T010000
END:DAYLIGHT
BEGIN:STANDARD
TZOFFSETFROM:+0200
TZOFFSETTO:+0100
TZNAME:CET
DTSTART:20251026T010000
END:STANDARD
BEGIN:DAYLIGHT
TZOFFSETFROM:+0100
TZOFFSETTO:+0200
TZNAME:CEST
DTSTART:20260329T010000
END:DAYLIGHT
BEGIN:STANDARD
TZOFFSETFROM:+0200
TZOFFSETTO:+0100
TZNAME:CET
DTSTART:20261025T010000
END:STANDARD
BEGIN:DAYLIGHT
TZOFFSETFROM:+0100
TZOFFSETTO:+0200
TZNAME:CEST
DTSTART:20270328T010000
END:DAYLIGHT
BEGIN:STANDARD
TZOFFSETFROM:+0200
TZOFFSETTO:+0100
TZNAME:CET
DTSTART:20271031T010000
END:STANDARD
END:VTIMEZONE
BEGIN:VEVENT
DTSTART;TZID=Europe/Paris:20261128T110000
DTEND;TZID=Europe/Paris:20261128T170000
DTSTAMP:20260422T020911
CREATED:20260129T150756Z
LAST-MODIFIED:20260129T151036Z
UID:1382-1795863600-1795885200@bonnykalsbeek.nl
SUMMARY:28 november 2026 - Chungna's Welzijnsbeurs - Papageno Huis te Lemmer
DESCRIPTION:Zaterdag 28 november 2026 mag ik mijn tarotkaarten laten dansen op de Chungna’s welzijnsbeurs in het Papageno Huis in Lemmer. Tijd: 11.00 tot 17.00 uur. \nIk zie je graag\, liefs Bonny
URL:https://bonnykalsbeek.nl/index.php/agenda/28-november-chungnas-welzijnsbeurs-papageno-huis-te-lemmer/
END:VEVENT
END:VCALENDAR