BEGIN:VCALENDAR
VERSION:2.0
PRODID:-//Bonny Kalsbeek - ECPv6.15.20//NONSGML v1.0//EN
CALSCALE:GREGORIAN
METHOD:PUBLISH
X-WR-CALNAME:Bonny Kalsbeek
X-ORIGINAL-URL:https://bonnykalsbeek.nl
X-WR-CALDESC:Evenementen voor Bonny Kalsbeek
REFRESH-INTERVAL;VALUE=DURATION:PT1H
X-Robots-Tag:noindex
X-PUBLISHED-TTL:PT1H
BEGIN:VTIMEZONE
TZID:Europe/Paris
BEGIN:DAYLIGHT
TZOFFSETFROM:+0100
TZOFFSETTO:+0200
TZNAME:CEST
DTSTART:20220327T010000
END:DAYLIGHT
BEGIN:STANDARD
TZOFFSETFROM:+0200
TZOFFSETTO:+0100
TZNAME:CET
DTSTART:20221030T010000
END:STANDARD
BEGIN:DAYLIGHT
TZOFFSETFROM:+0100
TZOFFSETTO:+0200
TZNAME:CEST
DTSTART:20230326T010000
END:DAYLIGHT
BEGIN:STANDARD
TZOFFSETFROM:+0200
TZOFFSETTO:+0100
TZNAME:CET
DTSTART:20231029T010000
END:STANDARD
BEGIN:DAYLIGHT
TZOFFSETFROM:+0100
TZOFFSETTO:+0200
TZNAME:CEST
DTSTART:20240331T010000
END:DAYLIGHT
BEGIN:STANDARD
TZOFFSETFROM:+0200
TZOFFSETTO:+0100
TZNAME:CET
DTSTART:20241027T010000
END:STANDARD
BEGIN:DAYLIGHT
TZOFFSETFROM:+0100
TZOFFSETTO:+0200
TZNAME:CEST
DTSTART:20250330T010000
END:DAYLIGHT
BEGIN:STANDARD
TZOFFSETFROM:+0200
TZOFFSETTO:+0100
TZNAME:CET
DTSTART:20251026T010000
END:STANDARD
BEGIN:DAYLIGHT
TZOFFSETFROM:+0100
TZOFFSETTO:+0200
TZNAME:CEST
DTSTART:20260329T010000
END:DAYLIGHT
BEGIN:STANDARD
TZOFFSETFROM:+0200
TZOFFSETTO:+0100
TZNAME:CET
DTSTART:20261025T010000
END:STANDARD
BEGIN:DAYLIGHT
TZOFFSETFROM:+0100
TZOFFSETTO:+0200
TZNAME:CEST
DTSTART:20270328T010000
END:DAYLIGHT
BEGIN:STANDARD
TZOFFSETFROM:+0200
TZOFFSETTO:+0100
TZNAME:CET
DTSTART:20271031T010000
END:STANDARD
END:VTIMEZONE
BEGIN:VEVENT
DTSTART;TZID=Europe/Paris:20260131T130000
DTEND;TZID=Europe/Paris:20260131T170000
DTSTAMP:20260421T172731
CREATED:20260115T153905Z
LAST-MODIFIED:20260115T153905Z
UID:1370-1769864400-1769878800@bonnykalsbeek.nl
SUMMARY:31 januari 2026 - Apollanja Leeuwarden - gratis korte tarotreading
DESCRIPTION:Op zaterdag 31 januari 2026 as ben ik bij Apollanja in Leeuwarden aanwezig om mijn kaarten te laten dansen voor een korte tarotreading. \nNieuwstad 88\, 8911 CW Leeuwarden \nTijd: 13.00 uur tot 17.00 uur \nIk zie je graag\, liefs Bonny
URL:https://bonnykalsbeek.nl/index.php/agenda/31-januari-2026-apollanja-leeuwarden-gratis-korte-tarotreading/
END:VEVENT
BEGIN:VEVENT
DTSTART;TZID=Europe/Paris:20260111T130000
DTEND;TZID=Europe/Paris:20260111T170000
DTSTAMP:20260421T172731
CREATED:20250827T110103Z
LAST-MODIFIED:20260112T135627Z
UID:1264-1768136400-1768150800@bonnykalsbeek.nl
SUMMARY:Tarottraining 'Word wijzer met de tarot' - 2026 - VOL geen aanmelding meer mogelijk!
DESCRIPTION:Training ‘Word wijzer met de tarot’.\nOp zondagmiddag wordt deze leuke tarottraining gegeven in Leeuwarden. DEZE TRAINING IS VOL! \nDe data zijn:  zondag 11 en 25 januari\, zondag 8 en 22 februari en zondag 8 maart 2026 \nTijd: 13.00 tot 16.30 uur.  \nJouw investering is € 495\,=\, dit is inclusief de tarotkaarten van Rider Waite. \nWat kun je verwachten:\nNaast wat tarot nu eigenlijk is\, gaan we dieper in op de inhoud van de kaarten. We kijken onder andere naar de afbeeldingen\, de elementen\, getallen\, de Azen\, Hofkaarten\, symbolen en kleuren. \nDaarnaast ga je zelf aan de slag met verschillende leggingen. \nHeb je altijd al meer willen weten over de tarot? Of wil je er graag mee leren werken en ontdekken wat er mogelijk is? Dan is deze tarot training een uitgelezen kans om je te verdiepen in de ‘geheimen’ van de tarot. \nHeb je interesse? Laat het me weten\, ook voor vragen mag je me appen of bellen\,\n06 12 96 60 36. \nAanmelden is noodzakelijk\, er zijn beperkt aantal plaatsen beschikbaar.
URL:https://bonnykalsbeek.nl/index.php/agenda/tarottraining-word-wijzer-met-de-tarot-2026/
END:VEVENT
BEGIN:VEVENT
DTSTART;TZID=Europe/Paris:20251227T130000
DTEND;TZID=Europe/Paris:20251227T170000
DTSTAMP:20260421T172731
CREATED:20250922T123959Z
LAST-MODIFIED:20250922T124756Z
UID:1286-1766840400-1766854800@bonnykalsbeek.nl
SUMMARY:27 december 2025 Apollanja Leeuwarden - gratis korte tarotreading
DESCRIPTION:Op zaterdag 27 december as ben ik bij Apollanja in Leeuwarden aanwezig om mijn kaarten te laten dansen voor een korte tarotreading. \nTijd: 13.00 uur tot 17.00 uur \nIk zie je graag\, liefs Bonny
URL:https://bonnykalsbeek.nl/index.php/agenda/27-december-2025-apollanja-leeuwarden-gratis-korte-tarotreading/
END:VEVENT
BEGIN:VEVENT
DTSTART;TZID=Europe/Paris:20251129T130000
DTEND;TZID=Europe/Paris:20251129T170000
DTSTAMP:20260421T172731
CREATED:20250922T123801Z
LAST-MODIFIED:20250922T124835Z
UID:1284-1764421200-1764435600@bonnykalsbeek.nl
SUMMARY:29 november 2025 bij Apollanja Leeuwarden - gratis korte tarotreading
DESCRIPTION:Op zaterdag 29 november as ben ik bij Apollanja in Leeuwarden aanwezig om mijn kaarten te laten dansen voor een korte tarotreading. \nTijd: 13.00 uur tot 17.00 uur \nIk zie je graag\, liefs Bonny
URL:https://bonnykalsbeek.nl/index.php/agenda/29-november-2025-bij-apollanja-leeuwarden-gratis-korte-tarotreading/
END:VEVENT
BEGIN:VEVENT
DTSTART;TZID=Europe/Paris:20251102T110000
DTEND;TZID=Europe/Paris:20251102T170000
DTSTAMP:20260421T172731
CREATED:20250922T124553Z
LAST-MODIFIED:20250922T124627Z
UID:1289-1762081200-1762102800@bonnykalsbeek.nl
SUMMARY:Marchakri Beurs - Wolvega - 2 november 2025
DESCRIPTION:Op zondag 2 november as ben ik aanwezig op de spirituele beurs van Marchakri in Wolvega. \nGraag ontmoet ik je daar\, om samen met mijn tarotkaarten al je vragen te beantwoorden. \nIk zie je graag\, liefs Bonny \n 
URL:https://bonnykalsbeek.nl/index.php/agenda/marchakri-beurs-wolvega-2-november-2025/
END:VEVENT
BEGIN:VEVENT
DTSTART;TZID=Europe/Paris:20251101T130000
DTEND;TZID=Europe/Paris:20251101T170000
DTSTAMP:20260421T172731
CREATED:20250922T123625Z
LAST-MODIFIED:20250922T124919Z
UID:1282-1762002000-1762016400@bonnykalsbeek.nl
SUMMARY:1 november 2025 bij Apollanja Leeuwarden - gratis korte tarotreading
DESCRIPTION:Op zaterdag 1 november as ben ik bij Apollanja in Leeuwarden aanwezig om mijn kaarten te laten dansen voor een korte tarotreading. \nTijd: 13.00 uur tot 17.00 uur \nIk zie je graag\, liefs Bonny
URL:https://bonnykalsbeek.nl/index.php/agenda/1-november-2025-bij-apollanja-leeuwarden-gratis-korte-tarotreading/
END:VEVENT
BEGIN:VEVENT
DTSTART;TZID=Europe/Paris:20251002T100000
DTEND;TZID=Europe/Paris:20251002T140000
DTSTAMP:20260421T172731
CREATED:20250908T175716Z
LAST-MODIFIED:20250922T124654Z
UID:1274-1759399200-1759413600@bonnykalsbeek.nl
SUMMARY:Bolletongersdei Bolsward - 2 oktober - Apollanja Crystals
DESCRIPTION:Op donderdag 2 oktober as ben ik aanwezig bij Apollanja Crystals tijdens de Bolletongersdei in Bolsward. \nJe kunt dan bij mij terecht voor een korte tarotreading in de winkel. Vanaf 10.00 uur tot 14.00 uur. \nIk zie je graag!
URL:https://bonnykalsbeek.nl/index.php/agenda/bolletongersdei-bolsward-2-oktober-2025-apollanja-crystals/
END:VEVENT
BEGIN:VEVENT
DTSTART;TZID=Europe/Paris:20250921T110000
DTEND;TZID=Europe/Paris:20250921T170000
DTSTAMP:20260421T172731
CREATED:20250816T175933Z
LAST-MODIFIED:20250816T180221Z
UID:1257-1758452400-1758474000@bonnykalsbeek.nl
SUMMARY:MARCHAKRI spirituele beurs - Beetsterzwaag - 21 september 2025
DESCRIPTION:Op 21 september ben ik op deze leuke spirituele beurs van Marchakri aanwezig in Beetsterzwaag. \nIk vind het leuk je daar te ontmoeten en eventueel een tarotreading voor je te leggen. \nOpen van 11.00 uur tot 17.00 uur. Adres is: dorpshuis De Buorskip\, Vlaslaan 26\, 9244CH Beetsterzwaag. \nLiefs Bonny
URL:https://bonnykalsbeek.nl/index.php/agenda/marchakri-spirituele-beurs-beetsterzwaag-21-september-2025/
END:VEVENT
BEGIN:VEVENT
DTSTART;TZID=Europe/Paris:20250920T130000
DTEND;TZID=Europe/Paris:20250920T170000
DTSTAMP:20260421T172731
CREATED:20250908T175209Z
LAST-MODIFIED:20250908T175933Z
UID:1272-1758373200-1758387600@bonnykalsbeek.nl
SUMMARY:Apollanja Crystals- Leeuwarden 20 september 2025
DESCRIPTION:Op zaterdag 20 september 2025 kun je bij mij aanschuiven voor een korte tarotreading bij Apollanja Crystals in de winkel. \nTijd  13.00 – 17.00 uur \nAdres: Apollanja Crystals\, Nieuwstad 88 te Leeuwarden. \nIk zie je graag!
URL:https://bonnykalsbeek.nl/index.php/agenda/apollanja-crystals-leeuwarden-20-september-2025/
END:VEVENT
BEGIN:VEVENT
DTSTART;TZID=Europe/Paris:20250906T110000
DTEND;TZID=Europe/Paris:20250906T170000
DTSTAMP:20260421T172731
CREATED:20250816T175411Z
LAST-MODIFIED:20250816T175411Z
UID:1255-1757156400-1757178000@bonnykalsbeek.nl
SUMMARY:Hurdegaryp - 6 september - spirituele beurs
DESCRIPTION:Op deze leuke Spirituele Wellness beurs ben ik aanwezig. Adres is it Maskelyn\, Easteromwei 5 te Hurdegaryp. \nVan 11.00 tot 17.00 kun je bij me aanschuiven voor een tarotreading. \n  \nIk zie je graag!
URL:https://bonnykalsbeek.nl/index.php/agenda/hurdegaryp-6-september-spirituele-beurs/
END:VEVENT
BEGIN:VEVENT
DTSTART;TZID=Europe/Paris:20250321T130000
DTEND;TZID=Europe/Paris:20250321T180000
DTSTAMP:20260421T172731
CREATED:20250318T162344Z
LAST-MODIFIED:20250318T202042Z
UID:1192-1742562000-1742580000@bonnykalsbeek.nl
SUMMARY:VROUW beurs - 21\, 22 en 23 maart 2025 EXPO Leeuwarden
DESCRIPTION:Wie weet ontmoet ik u op de VROUW beurs! \nU kunt mij vinden bij de stand van Apollanja Crystals.
URL:https://bonnykalsbeek.nl/index.php/agenda/vrouw-beurs-21-22-en-23-maart-expo-leeuwarden/
END:VEVENT
BEGIN:VEVENT
DTSTART;TZID=Europe/Paris:20250112T130000
DTEND;TZID=Europe/Paris:20250112T163000
DTSTAMP:20260421T172731
CREATED:20240915T185239Z
LAST-MODIFIED:20250105T185343Z
UID:1145-1736686800-1736699400@bonnykalsbeek.nl
SUMMARY:Tarottraining 'Word wijzer met de tarot'. VOL!!!
DESCRIPTION:Training ‘Word wijzer met de Tarot’. Deze wordt gegeven op vijf zondagmiddagen. \nDe data zijn: zondag 12 en 26 januari\, 9 en 23 februari en 9 maart 2025. Tijd: 13.00 tot 16.30 uur. \nJouw investering is € 477\,=\, dit is inclusief de tarotkaarten van Rider Waite. \nWat kun je verwachten: \nNaast wat tarot nu eigenlijk is\, gaan we dieper in op de inhoud van de kaarten. We kijken onder andere naar de afbeeldingen\, de elementen\, getallen\, symbolen en kleuren\, de betekenis van de Azen\, Hofkaarten en de Kleine Arcana en de Grote Arcana. \nDaarnaast ga je zelf aan de slag met verschillende leggingen. \nHeb je altijd al meer willen weten over de tarot? Of wil je er graag mee leren werken en ontdekken wat er mogelijk is? Dan is deze tarot training een uitgelezen kans om je te verdiepen in de ‘geheimen’ van de tarot. \nDeze training vindt plaats in Leeuwarden. \nHeb je interesse? Laat het me weten\, ook voor vragen mag je mij appen of bellen\, 06 12 96 60 36. \nAanmelden is noodzakelijk\, beperkt aantal plaatsen beschikbaar. \nLiefs Bonny \n  \nDeze reactie mocht ik naar aanleiding van de gegeven training ontvangen: \nBij Bonny een Tarot cursus gevolgd.\nTarot kaarten vond ik altijd al fascinerend.\nEr is mij een hoop duidelijk geworden.\nBonny legt alles goed uit\, staat open voor vragen\, geeft de cursus vol enthousiasme en liefde.\nIn de cursus die uit 3 middagen bestond hebben we ook veel geoefend met leggingen en ook daarin veel van elkaar geleerd. \nBonny\, dank voor deze mooie liefdevolle ervaring.
URL:https://bonnykalsbeek.nl/index.php/agenda/tarottraining-word-wijzer-met-de-tarot-incl-de-kleine-arcana-uitgebreid/
END:VEVENT
BEGIN:VEVENT
DTSTART;TZID=Europe/Paris:20241020T130000
DTEND;TZID=Europe/Paris:20241020T163000
DTSTAMP:20260421T172731
CREATED:20240528T075746Z
LAST-MODIFIED:20241007T121011Z
UID:1120-1729429200-1729441800@bonnykalsbeek.nl
SUMMARY:Tarot training 'Word wijzer met de tarot' - VOL
DESCRIPTION:Training ‘Word wijzer met de Tarot’. \nDe data zijn: zondag 20 oktober\, zondag 3 november\, en zondag 17 november 2024. Tijd: 13.00 tot 16.30 uur. \nJouw investering is € 277\,=\, dit is inclusief de tarotkaarten van Rider Waite. \nWat kun je verwachten: \nNaast wat tarot nu eigenlijk is\, gaan we dieper in op de inhoud van de kaarten. We kijken onder andere naar de afbeeldingen\, de elementen\, getallen\, de Azen\, Hofkaarten\, symbolen en kleuren. \nDaarnaast ga je zelf aan de slag met verschillende leggingen. \nHeb je altijd al meer willen weten over de tarot? Of wil je er graag mee leren werken en ontdekken wat er mogelijk is? Dan is deze tarot training een uitgelezen kans om je te verdiepen in de ‘geheimen’ van de tarot. \nDeze training vindt plaats in Leeuwarden. \nHeb je interesse? Laat het me weten\, ook voor vragen mag je mij appen of bellen\, 06 12 96 60 36. \nAanmelden is noodzakelijk\, beperkt aantal plaatsen beschikbaar. \nLiefs Bonny \n  \nDeze reactie mocht ik naar aanleiding van de gegeven training ontvangen: \nBij Bonny een Tarot cursus gevolgd.\nTarot kaarten vond ik altijd al fascinerend.\nEr is mij een hoop duidelijk geworden.\nBonny legt alles goed uit\, staat open voor vragen\, geeft de cursus vol enthousiasme en liefde.\nIn de cursus die uit 3 middagen bestond hebben we ook veel geoefend met leggingen en ook daarin veel van elkaar geleerd. \nBonny\, dank voor deze mooie liefdevolle ervaring.
URL:https://bonnykalsbeek.nl/index.php/agenda/tarot-training-word-wijzer-met-de-tarot-2/
END:VEVENT
BEGIN:VEVENT
DTSTART;TZID=Europe/Paris:20240907T100000
DTEND;TZID=Europe/Paris:20240907T170000
DTSTAMP:20260421T172731
CREATED:20240812T093104Z
LAST-MODIFIED:20240812T093104Z
UID:1131-1725703200-1725728400@bonnykalsbeek.nl
SUMMARY:I am festival - Rotsterhaule
DESCRIPTION:I am festival. \nDit festival staat in het teken van verbinding. Met gezellige stands\, waaronder ik met mijn tarotkaarten. \nOp zaterdag 7 september 2024. \nLocatie: De Kiemschuur\, Rotsterhaule \nLeuk om je daar te ontmoeten.
URL:https://bonnykalsbeek.nl/index.php/agenda/i-am-festival-rotsterhaule/
END:VEVENT
BEGIN:VEVENT
DTSTART;TZID=Europe/Paris:20240831T110000
DTEND;TZID=Europe/Paris:20240831T170000
DTSTAMP:20260421T172731
CREATED:20240812T092645Z
LAST-MODIFIED:20240812T092645Z
UID:1127-1725102000-1725123600@bonnykalsbeek.nl
SUMMARY:Spirituele Welness beurs in Hurdegaryp
DESCRIPTION:Wie weet mag ik een tarotlegging met u doen op deze spirituele welness beurs in Hurdegaryp. \nZie u graag!
URL:https://bonnykalsbeek.nl/index.php/agenda/spirituele-welness-beurs-in-hurdegaryp/
END:VEVENT
BEGIN:VEVENT
DTSTART;TZID=Europe/Paris:20240705T080000
DTEND;TZID=Europe/Paris:20240707T170000
DTSTAMP:20260421T172731
CREATED:20240528T080607Z
LAST-MODIFIED:20240528T080607Z
UID:1124-1720166400-1720371600@bonnykalsbeek.nl
SUMMARY:Vrije Vrouwen Festival 5\, 6 en 7 juli 2024
DESCRIPTION:Vrije Vrouwen Festival 5\, 6 en 7 juli 2024\n\nDit is een besloten groep. Heb je interesse en/of wil je informatie dan graag contact opnemen.
URL:https://bonnykalsbeek.nl/index.php/agenda/vrije-vrouwen-festival-5-6-en-7-juli-2024/
END:VEVENT
BEGIN:VEVENT
DTSTART;TZID=Europe/Paris:20240526T130000
DTEND;TZID=Europe/Paris:20240526T163000
DTSTAMP:20260421T172731
CREATED:20240117T135425Z
LAST-MODIFIED:20240121T111404Z
UID:1068-1716728400-1716741000@bonnykalsbeek.nl
SUMMARY:Tarot training 'Word wijzer met de tarot'. Start 26 mei 2024
DESCRIPTION:Training ‘Word wijzer met de Tarot’. \nDe data zijn: zondag 26 mei\, zondag 9 juni\, en zondag 23 juni 2024. Tijd: 13.00 tot 16.30 uur. \nJouw investering is € 277\,=\, dit is inclusief de tarotkaarten van Rider Waite. \nWat kun je verwachten: \nNaast wat tarot nu eigenlijk is\, gaan we dieper in op de inhoud van de kaarten. We kijken onder andere naar de afbeeldingen\, de elementen\, getallen\, de Azen\, Hofkaarten\, symbolen en kleuren. \nDaarnaast ga je zelf aan de slag met verschillende leggingen. \nHeb je altijd al meer willen weten over de tarot? Of wil je er graag mee leren werken en ontdekken wat er mogelijk is? Dan is deze tarot training een uitgelezen kans om je te verdiepen in de ‘geheimen’ van de tarot. \nDeze training vindt plaats in Leeuwarden. \nHeb je interesse? Laat het me weten\, ook voor vragen mag je mij appen of bellen\, 06 12 96 60 36. \nAanmelden is noodzakelijk\, beperkt aantal plaatsen beschikbaar. \nLiefs Bonny \n  \nDeze reactie mocht ik naar aanleiding van de gegeven training ontvangen: \nBij Bonny een Tarot cursus gevolgd.\nTarot kaarten vond ik altijd al fascinerend.\nEr is mij een hoop duidelijk geworden.\nBonny legt alles goed uit\, staat open voor vragen\, geeft de cursus vol enthousiasme en liefde.\nIn de cursus die uit 3 middagen bestond hebben we ook veel geoefend met leggingen en ook daarin veel van elkaar geleerd. \nBonny\, dank voor deze mooie liefdevolle ervaring.
URL:https://bonnykalsbeek.nl/index.php/agenda/tarottraining-word-wijzer-met-de-tarot/
LOCATION:leeuwarden
END:VEVENT
BEGIN:VEVENT
DTSTART;TZID=Europe/Paris:20240303T130000
DTEND;TZID=Europe/Paris:20240303T163000
DTSTAMP:20260421T172731
CREATED:20231026T173829Z
LAST-MODIFIED:20240305T142603Z
UID:1024-1709470800-1709483400@bonnykalsbeek.nl
SUMMARY:Tarot Training 'Word wijzer met de tarot'. Start 3 maart 2024
DESCRIPTION:Training ‘Word wijzer met de Tarot’. Deze training is VOL.  KIJK voor nieuwe data in de agenda. \nDe data zijn: zondag 3 maart\, 17 maart en 24 maart 2024. Tijd: 13.00 tot 16.30 uur. \nJouw investering is € 277\,=\, dit is inclusief de tarotkaarten van Rider Waite. \nWat kun je verwachten: \nNaast wat tarot nu eigenlijk is\, gaan we dieper in op de inhoud van de kaarten. We kijken onder andere naar de afbeeldingen\, de elementen\, getallen\, de Azen\, Hofkaarten\, symbolen en kleuren. \nDaarnaast ga je zelf aan de slag met verschillende leggingen. \nHeb je altijd al meer willen weten over de tarot? Of wil je er graag mee leren werken en ontdekken wat er mogelijk is? Dan is deze tarot training een uitgelezen kans om je te verdiepen in de ‘geheimen’ van de tarot. \nDeze training vindt plaats in Leeuwarden. \nHeb je interesse? Laat het me weten\, ook voor vragen mag je mij appen of bellen\, 06 12 96 60 36. \nAanmelden is noodzakelijk\, beperkt aantal plaatsen beschikbaar. \nLiefs Bonny \n  \nDeze reactie mocht ik naar aanleiding van de gegeven training ontvangen: \nBij Bonny een Tarot cursus gevolgd.\nTarot kaarten vond ik altijd al fascinerend.\nEr is mij een hoop duidelijk geworden.\nBonny legt alles goed uit\, staat open voor vragen\, geeft de cursus vol enthousiasme en liefde.\nIn de cursus die uit 3 middagen bestond hebben we ook veel geoefend met leggingen en ook daarin veel van elkaar geleerd. \nBonny\, dank voor deze mooie liefdevolle ervaring. \n 
URL:https://bonnykalsbeek.nl/index.php/agenda/tarot-training-word-wijzer-met-de-tarot-start-10-maart-2024/
END:VEVENT
BEGIN:VEVENT
DTSTART;TZID=Europe/Paris:20240128T130000
DTEND;TZID=Europe/Paris:20240128T163000
DTSTAMP:20260421T172731
CREATED:20231010T163735Z
LAST-MODIFIED:20231026T173449Z
UID:1012-1706446800-1706459400@bonnykalsbeek.nl
SUMMARY:Tarot training 'Word wijzer met de tarot' - start 28 januari 2024  VOL!!!
DESCRIPTION:Training ‘Word wijzer met de Tarot’. \nDe data zijn: zondag 28 januari\, zondag 11 februari\, zondag 25 februari 2024. Tijd: 13.00 tot 16.30 uur. \nJouw investering is € 277\,=\, dit is inclusief de tarotkaarten van Rider Waite. \nWat kun je verwachten: \nNaast wat tarot nu eigenlijk is\, gaan we dieper in op de inhoud van de kaarten. We kijken onder andere naar de afbeeldingen\, de elementen\, getallen\, de Azen\, Hofkaarten\, symbolen en kleuren. \nDaarnaast ga je zelf aan de slag met verschillende leggingen. \nHeb je altijd al meer willen weten over de tarot? Of wil je er graag mee leren werken en ontdekken wat er mogelijk is? Dan is deze tarot training een uitgelezen kans om je te verdiepen in de ‘geheimen’ van de tarot. \nDeze training vindt plaats in Leeuwarden. \nHeb je interesse? Laat het me weten\, ook voor vragen mag je mij appen of bellen\, 06 12 96 60 36. \nAanmelden is noodzakelijk\, beperkt aantal plaatsen beschikbaar. \nLiefs Bonny \n  \nDeze reactie mocht ik naar aanleiding van de gegeven training ontvangen: \nBij Bonny een Tarot cursus gevolgd.\nTarot kaarten vond ik altijd al fascinerend.\nEr is mij een hoop duidelijk geworden.\nBonny legt alles goed uit\, staat open voor vragen\, geeft de cursus vol enthousiasme en liefde.\nIn de cursus die uit 3 middagen bestond hebben we ook veel geoefend met leggingen en ook daarin veel van elkaar geleerd. \nBonny\, dank voor deze mooie liefdevolle ervaring. \n 
URL:https://bonnykalsbeek.nl/index.php/agenda/tarot-training-word-wijzer-met-de-tarot-start-28-januari-2024/
END:VEVENT
BEGIN:VEVENT
DTSTART;TZID=Europe/Paris:20240118T190000
DTEND;TZID=Europe/Paris:20240118T213000
DTSTAMP:20260421T172731
CREATED:20240117T173554Z
LAST-MODIFIED:20240117T173554Z
UID:1081-1705604400-1705613400@bonnykalsbeek.nl
SUMMARY:Tarot avond met 16 magische vrouwen!
DESCRIPTION:Deze avond verbind ik mij met 16 magische\, bewuste vrouwen. \nWe gaan het over de TAROT hebben en over de wereld van NU. \nMijn wens is dat de kosmische energie mag stromen en dat ieder van ons GEZIEN mag worden. \n  \nWilt u ook een avond organiseren rondom een thema of de tarot\, dan hoor ik het graag\, liefs Bonny
URL:https://bonnykalsbeek.nl/index.php/agenda/tarot-avond-met-16-magische-vrouwen/
LOCATION:Heerenveen
END:VEVENT
BEGIN:VEVENT
DTSTART;TZID=Europe/Paris:20231001T130000
DTEND;TZID=Europe/Paris:20231001T163000
DTSTAMP:20260421T172731
CREATED:20230824T160605Z
LAST-MODIFIED:20230826T121722Z
UID:993-1696165200-1696177800@bonnykalsbeek.nl
SUMMARY:Training 'Word wijzer met de Tarot'
DESCRIPTION:Training ‘Word wijzer met de Tarot’. \nDeze training die met enthousiasme is ontvangen\, wordt in het najaar opnieuw gegeven. \nDe data zijn: zondag 1 oktober\, zaterdag 21 oktober en zondag 29 oktober 2023. Tijd: 13.00 tot 16.30 uur. \nJouw investering is € 277\,=\, dit is inclusief de tarotkaarten van Rider Waite. \nWat kun je verwachten: \nNaast wat tarot nu eigenlijk is\, gaan we dieper in op de inhoud van de kaarten. We kijken onder andere naar de afbeeldingen\, de elementen\, getallen\, de Azen\, Hofkaarten\, symbolen en kleuren. \nDaarnaast ga je zelf aan de slag met verschillende leggingen. \nHeb je altijd al meer willen weten over de tarot? Of wil je er graag mee leren werken en ontdekken wat er mogelijk is? Dan is deze tarot training een uitgelezen kans om je te verdiepen in de ‘geheimen’ van de tarot. \nDeze training vindt plaats in Leeuwarden. \nHeb je interesse? Laat het me weten\, ook voor vragen mag je mij appen of bellen\, 06 12 96 60 36. \nAanmelden is noodzakelijk\, er zijn maximaal 6 plaatsen beschikbaar. \nLiefs Bonny \n  \nDeze reactie mocht ik naar aanleiding van de gegeven training ontvangen: \nBij Bonny een Tarot cursus gevolgd.\nTarot kaarten vond ik altijd al fascinerend.\nEr is mij een hoop duidelijk geworden.\nBonny legt alles goed uit\, staat open voor vragen\, geeft de cursus vol enthousiasme en liefde.\nIn de cursus die uit 3 middagen bestond hebben we ook veel geoefend met leggingen en ook daarin veel van elkaar geleerd. \nBonny\, dank voor deze mooie liefdevolle ervaring. \n 
URL:https://bonnykalsbeek.nl/index.php/agenda/training-word-wijzer-met-de-tarot/
END:VEVENT
BEGIN:VEVENT
DTSTART;TZID=Europe/Paris:20230714T150000
DTEND;TZID=Europe/Paris:20230716T150000
DTSTAMP:20260421T172731
CREATED:20230607T112110Z
LAST-MODIFIED:20230607T112110Z
UID:986-1689346800-1689519600@bonnykalsbeek.nl
SUMMARY:Vrije Vrouwen Festival 14/15/16 juli 2023
DESCRIPTION:Dit is een besloten groep. Heb je interesse en/of wil je informatie dan graag contact opnemen.
URL:https://bonnykalsbeek.nl/index.php/agenda/vrije-vrouwen-festival-14-15-16-juli-2023/
END:VEVENT
BEGIN:VEVENT
DTSTART;TZID=Europe/Paris:20230402T130000
DTEND;TZID=Europe/Paris:20230402T163000
DTSTAMP:20260421T172731
CREATED:20230126T104634Z
LAST-MODIFIED:20230307T151712Z
UID:935-1680440400-1680453000@bonnykalsbeek.nl
SUMMARY:Training 'Word wijzer met de tarot'
DESCRIPTION:Training ‘Word wijzer met de tarot’ \nDe enthousiaste reacties op de workshop ‘Kennismaken met de tarot’ hebben ertoe geleid dat er een vervolg komt in de vorm van een training over de tarot. \nDeze training zal worden gegeven op drie zondagmiddagen van 13.00 tot 16.30 uur. \nDe data zijn 2\, 16  en 23 april 2023. De bijdrage is € 277\,= \n  \nTijdens de training gebruiken we het Rider Waite deck. (Deze is niet inbegrepen bij de training\, maar kan wel vooraf worden besteld.) \nWat kun je verwachten: \nNaast wat tarot nu eigenlijk is\, gaan we dieper in op de inhoud van de kaarten. We kijken onder andere naar de afbeeldingen\, de elementen\, getallen\, de Azen\, Hofkaarten\, symbolen en kleuren. \nMaar je gaat ook zelf aan de slag met verschillende leggingen. \nHeb je altijd al meer willen weten over de tarot? Of wil je er graag mee werken? Dan is deze tarot training een uitgelezen kans om je te verdiepen in de ‘geheimen’ van de tarot. \nDeze tarot training wordt gegeven door Bonny Kalsbeek. \n  \nLocatie: Bij Apollanja Crystals\, Skilwyk 37\, 8701KM Bolsward. \nHeb je interesse? Voor meer informatie kun je appen naar 06 49 53 04 06 \nAanmelden is verplicht. \n 
URL:https://bonnykalsbeek.nl/index.php/agenda/test-event/
LOCATION:Bonny Kalsbeek\, Monsmastate 18\, Leeuwarden\, 8925 BR\, Nederland
END:VEVENT
BEGIN:VEVENT
DTSTART;TZID=Europe/Paris:20230319T130000
DTEND;TZID=Europe/Paris:20230319T163000
DTSTAMP:20260421T172731
CREATED:20230307T121440Z
LAST-MODIFIED:20230307T121440Z
UID:965-1679230800-1679243400@bonnykalsbeek.nl
SUMMARY:Vervolg training 'Word wijzer met de tarot'
DESCRIPTION:Op zondag 19 maart as is de derde bijeenkomst van de training ‘Word wijzer met de tarot’. \nVoor deze middag kunt u zich niet meer aanmelden. In april op de zondagmiddagen 2\, 16 en 23 april is er de mogelijkheid om weer mee te doen aan een nieuwe drieluik. \nKijk voor informatie betreffende de training ‘Word wijzer met de tarot’ op de agenda bij 2 april 2023. Misschien tot dán! \n  \n  \n 
URL:https://bonnykalsbeek.nl/index.php/agenda/vervolg-training-word-wijzer-met-de-tarot/
END:VEVENT
BEGIN:VEVENT
DTSTART;TZID=Europe/Paris:20230204T100000
DTEND;TZID=Europe/Paris:20230204T170000
DTSTAMP:20260421T172731
CREATED:20230126T114533Z
LAST-MODIFIED:20230126T114533Z
UID:951-1675504800-1675530000@bonnykalsbeek.nl
SUMMARY:Workshop Tarot
DESCRIPTION:Zaterdag 4 februari 2023 geef ik een dagworkshop kennismaken met de tarot.\nInclusief de grote raider set en een fijne biologische lunch in het prachtige doopsgezind kerkje naast Apollanja Crystals winkel in Bolsward.\nOpgeven kan bij www.apollanjacrystals.nl/apollanja-crystals-experience/workshop/tarot-workshop\n\nHet zijn 10 plaatsen\, dus beperkt.\n\n\nIk zie je graag\, groetjes Bonny
URL:https://bonnykalsbeek.nl/index.php/agenda/workshop-tarot/
LOCATION:Bolsward\, Skilwyk 29\, Bolsward\, Nederland
END:VEVENT
END:VCALENDAR